BEGIN:VCALENDAR
VERSION:2.0
PRODID:-//Library Market//iCal Export//EN
BEGIN:VEVENT
SUMMARY:Gamers Guild
UID:36404
DTSTAMP:20260425T191200Z
DTSTART:20260526T190000Z
DTEND:20260526T210000Z
LOCATION:Sewickley Public Library, 500 Thorn St, Sewickley, PA 15143, Unit
 ed States
ROOM: Teen Department
DESCRIPTION:Monopoly or Mario Kart World? Scrabble or Super Smash Bros. Ul
 timate? As a member of Gamers Guild, you&#039;ll go head-to-head in popula
 r board and video games. You&#039;ll pick the games, teen librarians will 
 set up the tournament brackets, and we&#039;ll all work together to level 
 up at the Library!No need to sign up!This program is part of our Summer Pr
 eview Week and open to all students who will enter grades 6-12 in the 2026
 -27 school year.
URL:https://sewickley.librarycalendar.com/event/gamers-guild-36404
END:VEVENT
END:VCALENDAR
